BEGIN:VCALENDAR
VERSION:2.0
PRODID:-//Tukios.com/
BEGIN:VEVENT
UID:644798b3-c228-47c6-8d07-6ced8706e2a7@www.jerrylhartleyfuneralhome.biz
DTSTAMP:20260420T111939Z
DTSTART:20260424T170000Z
DTEND:20260424T180000Z
SUMMARY:Visitation
DESCRIPTION:
URL:https://www.jerrylhartleyfuneralhome.biz/obituaries/daryl-stogner
LOCATION: 684 Hubbard Dr  Lancaster SC 29720
GEO:34.7455023;-80.7791648
END:VEVENT
END:VCALENDAR