BEGIN:VCALENDAR
VERSION:2.0
PRODID:-//Tukios.com/
BEGIN:VEVENT
UID:abfd5a27-a3b1-428f-a88d-7a50f8bf9baa@www.jerrylhartleyfuneralhome.biz
DTSTAMP:20260420T112234Z
DTSTART:20260424T180000Z
DTEND:20260424T190000Z
SUMMARY:Memorial Service
DESCRIPTION:
URL:https://www.jerrylhartleyfuneralhome.biz/obituaries/daryl-stogner
LOCATION: 684 Hubbard Dr  Lancaster SC 29720
GEO:34.7455023;-80.7791648
END:VEVENT
END:VCALENDAR