BEGIN:VCALENDAR
VERSION:2.0
PRODID:-//Tukios.com/
BEGIN:VEVENT
UID:84d5bfec-dea9-480f-890a-bcf0fdbde30b@www.jerrylhartleyfuneralhome.biz
DTSTAMP:20260420T152123Z
DTSTART:20260421T170000Z
DTEND:20260421T180000Z
SUMMARY:Visitation
DESCRIPTION:
URL:https://www.jerrylhartleyfuneralhome.biz/obituaries/judy-melody-starkey
LOCATION: 684 Hubbard Dr  Lancaster SC 29720
GEO:34.7455023;-80.7791648
END:VEVENT
END:VCALENDAR