BEGIN:VCALENDAR
VERSION:2.0
PRODID:-//Tukios.com/
BEGIN:VEVENT
UID:5dc76e59-fada-4df2-9a96-35131570f9df@www.jerrylhartleyfuneralhome.biz
DTSTAMP:20260420T152052Z
DTSTART:20260421T180000Z
DTEND:20260421T190000Z
SUMMARY:Funeral Service
DESCRIPTION:
URL:https://www.jerrylhartleyfuneralhome.biz/obituaries/judy-melody-starkey
LOCATION: 684 Hubbard Dr  Lancaster SC 29720
GEO:34.7455023;-80.7791648
END:VEVENT
END:VCALENDAR