BEGIN:VCALENDAR
VERSION:2.0
PRODID:-//Tukios.com/
BEGIN:VEVENT
UID:3c41e0df-3fcf-4668-a5bd-02ddc66ba7d1@www.jerrylhartleyfuneralhome.biz
DTSTAMP:20260420T152152Z
DTSTART:20260421T190000Z
DTEND:20260421T200000Z
SUMMARY:Burial
DESCRIPTION:
URL:https://www.jerrylhartleyfuneralhome.biz/obituaries/judy-melody-starkey
LOCATION: 6575 Charlotte Hwy  Lancaster SC 29720
GEO:34.9060599;-80.809641
END:VEVENT
END:VCALENDAR